BEGIN:VCALENDAR
VERSION:2.0
PRODID:-//Frikoberlin - ECPv6.15.20//NONSGML v1.0//EN
CALSCALE:GREGORIAN
METHOD:PUBLISH
X-WR-CALNAME:Frikoberlin
X-ORIGINAL-URL:https://frikoberlin.de
X-WR-CALDESC:Veranstaltungen für Frikoberlin
REFRESH-INTERVAL;VALUE=DURATION:PT1H
X-Robots-Tag:noindex
X-PUBLISHED-TTL:PT1H
BEGIN:VTIMEZONE
TZID:Europe/Berlin
BEGIN:DAYLIGHT
TZOFFSETFROM:+0100
TZOFFSETTO:+0200
TZNAME:CEST
DTSTART:20230326T010000
END:DAYLIGHT
BEGIN:STANDARD
TZOFFSETFROM:+0200
TZOFFSETTO:+0100
TZNAME:CET
DTSTART:20231029T010000
END:STANDARD
BEGIN:DAYLIGHT
TZOFFSETFROM:+0100
TZOFFSETTO:+0200
TZNAME:CEST
DTSTART:20240331T010000
END:DAYLIGHT
BEGIN:STANDARD
TZOFFSETFROM:+0200
TZOFFSETTO:+0100
TZNAME:CET
DTSTART:20241027T010000
END:STANDARD
BEGIN:DAYLIGHT
TZOFFSETFROM:+0100
TZOFFSETTO:+0200
TZNAME:CEST
DTSTART:20250330T010000
END:DAYLIGHT
BEGIN:STANDARD
TZOFFSETFROM:+0200
TZOFFSETTO:+0100
TZNAME:CET
DTSTART:20251026T010000
END:STANDARD
END:VTIMEZONE
BEGIN:VEVENT
DTSTART;TZID=Europe/Berlin:20241205T180000
DTEND;TZID=Europe/Berlin:20241205T180000
DTSTAMP:20260422T034043
CREATED:20241128T171007Z
LAST-MODIFIED:20241128T171007Z
UID:44279-1733421600-1733421600@frikoberlin.de
SUMMARY:Streikrecht in Gefahr
DESCRIPTION:  \nie Bundesregierung hat Kürzungsmaßnahmen beschlossen\, die große Teile der Bevölkerung hart treffen – sei es in Bezug auf steigende Strom-\, Sprit- und Gaspreise\, scharfe Sanktionen beim Bürgergeld\, weniger Geld für Investitionen in den Schienenverkehr und den ÖPNV. Doch dies ist erst der Anfang. Laut denken Vertreter*innen der Kapitalinteressen über weitreichende Angriffe und eine Wirtschaftsagenda nach: Sie bringen Forderungen auf wie die Senkung von Unternehmenssteuern\, Verlängerung und weitere Flexibilisierungsmöglichkeiten bei den Arbeitszeiten\, Begrenzung der Sozialabgaben\, Verschlechterungen im Rentensystem und Einschränkungen des Streikrechts. Zusätzliches Geld gibt es neben Unternehmenssubventionen nur noch für die Aufrüstung der Bundeswehr. Hier bestätigt sich einmal mehr\, dass Aufrüstung und Sozialabbau zwei Seiten derselben Medaille sind. \nDiesem Klassenkampf von oben müssen Beschäftigte und Gewerkschaften im Bündnis mit sozialen Bewegungen entschlossenen Widerstand entgegensetzen. \nWir setzen uns in den Gewerkschaften dafür ein\, an jeder Stelle Widerspruch zu formulieren\, Widerstand zu organisieren und lokale\, regionale und bundesweite Netzwerke gegen drohende weitreichende Angriffe aufzubauen. Dazu sollen Aktionskonferenzen einberufen werden\, um einen gemeinsamen Aktionsplan für Proteste bis hin zu einer bundesweiten Großdemonstration z.B. für folgende Forderungen zu diskutieren: \n\nNein zu jeglichen Kürzungen und Verschlechterungen in der öffentlichen Daseinsvorsorge\nNein zu Einschränkungen von demokratischen Rechten – Hände weg vom Streikrecht\nFür eine massive Erhöhung der Steuern auf Gewinne und Vermögen der Banken\, Konzerne und Superreichen\nFür Milliardeninvestitionen in Bildung\, Gesundheit\, Klima und Soziales – statt Milliarden für Aufrüstung und Militarisierung\n\nWir erklären unsere Bereitschaft\, entsprechende Initiativen von unten selbst anzustoßen und dabei mitzuarbeiten. \n\n\n\nAufruf unterschreiben
URL:https://frikoberlin.de/event/streikrecht-in-gefahr/
LOCATION:ver.di MedienGalerie\, Dudenstr. 10\, Berlin\, 10965\, Deutschland
END:VEVENT
END:VCALENDAR