BEGIN:VCALENDAR
VERSION:2.0
PRODID:-//Frikoberlin - ECPv6.15.20//NONSGML v1.0//EN
CALSCALE:GREGORIAN
METHOD:PUBLISH
X-WR-CALNAME:Frikoberlin
X-ORIGINAL-URL:https://frikoberlin.de
X-WR-CALDESC:Veranstaltungen für Frikoberlin
REFRESH-INTERVAL;VALUE=DURATION:PT1H
X-Robots-Tag:noindex
X-PUBLISHED-TTL:PT1H
BEGIN:VTIMEZONE
TZID:Europe/Berlin
BEGIN:DAYLIGHT
TZOFFSETFROM:+0100
TZOFFSETTO:+0200
TZNAME:CEST
DTSTART:20230326T010000
END:DAYLIGHT
BEGIN:STANDARD
TZOFFSETFROM:+0200
TZOFFSETTO:+0100
TZNAME:CET
DTSTART:20231029T010000
END:STANDARD
BEGIN:DAYLIGHT
TZOFFSETFROM:+0100
TZOFFSETTO:+0200
TZNAME:CEST
DTSTART:20240331T010000
END:DAYLIGHT
BEGIN:STANDARD
TZOFFSETFROM:+0200
TZOFFSETTO:+0100
TZNAME:CET
DTSTART:20241027T010000
END:STANDARD
BEGIN:DAYLIGHT
TZOFFSETFROM:+0100
TZOFFSETTO:+0200
TZNAME:CEST
DTSTART:20250330T010000
END:DAYLIGHT
BEGIN:STANDARD
TZOFFSETFROM:+0200
TZOFFSETTO:+0100
TZNAME:CET
DTSTART:20251026T010000
END:STANDARD
END:VTIMEZONE
BEGIN:VEVENT
DTSTART;TZID=Europe/Berlin:20240311T170000
DTEND;TZID=Europe/Berlin:20240311T170000
DTSTAMP:20260424T213422
CREATED:20240229T153754Z
LAST-MODIFIED:20240229T153754Z
UID:27982-1710176400-1710176400@frikoberlin.de
SUMMARY:Für eine bleibende Erinnerung an das Märzmassaker 1919
DESCRIPTION:Am 11. März wurden im Hof der Französischen Straße 32 (Berlin-Mitte) 30 unbewaffnete Matrosen\nder Volksmarine-Division (VMD) ermordet. Sozusagen der ‚Dank‘ der SPD geführten Regierung\nEbert/Scheidemann\, dass die seit vier Monaten bestehende Volksmarine-Division als stärkste\nbewaffnete Formation die Revolution vom 9. November 1918 gesichert hatte.\nDie Matrosen hatten sich Ende Oktober 1918 geweigert\, den bereits vier Wochen zuvor von der\nObersten Heeresleitung (OHL) für verloren erklärten Weltkrieg nach über vier Jahren fortzusetzen.\nVon Norddeutschland aus waren sie in ihre Heimatstädte geströmt\, um den staatlich legitimierten\nMorden ein Ende zu setzen.
URL:https://frikoberlin.de/event/fuer-eine-bleibende-erinnerung-an-das-maerzmassaker-1919/
LOCATION:Französische Str.\, Französische Straße 32\, Berlin\, 10117\, Deutschland
END:VEVENT
BEGIN:VEVENT
DTSTART;TZID=Europe/Berlin:20240316T190000
DTEND;TZID=Europe/Berlin:20240316T190000
DTSTAMP:20260424T213422
CREATED:20240309T175819Z
LAST-MODIFIED:20240309T175819Z
UID:28263-1710615600-1710615600@frikoberlin.de
SUMMARY:Lieder und Texte für den Frieden
DESCRIPTION:Lieder und Texte für den Frieden – mit Jutta Kausch und Christa Weber – am Klavier Stefanie Rediske – Sa 16.3.2024 ab 19 Uhr im Coop Anti-War Café\n  \nEinladung zu einem Konzert:\nLasst uns das tausendmal Gesagte immer wieder sagen … solange es nötig ist\nLieder und Texte für den Frieden\n16.3.2024 19 Uhr COOP-Anti-War-Café\, Rochstr. 3\, 10178 Berlin \nWer hätte gedacht\, dass 79 Jahre nach Ende des Zweiten Weltkrieges der Krieg als ein normales politisches Mittel in Deutschland wieder hoffähig ist.\nDie Gesellschaft muss kriegstüchtig werden\, die Wirtschaft kriegstauglich\, das Militär siegreich\, und Russland muss vernichtet werden. Zum dritten Mal. \nWir verweigern uns diesem Narrativ und plädieren für ein Leben in Frieden\, Verständigung und gegenseitiger Achtung\, sagen hingegen die Schauspielerinnen Jutta Kausch und Christa Weber und präsentieren ein Programm mit Texten u. a. von Brecht/Eisler\, Heinrich Heine\, Gerry Wolff\, Erich Fried\, Reinhard Mey\, Walter Mossmann\, Hannes Wader\, Georg Werth… \nDas Programm rief große Begeisterung bei seiner Premiere zum 21. Kasseler Friedensratschlags im Dezember 2023 hervor. Nun ist es auch in Berlin zu sehen und zu hören. \nBegleitet werden die beiden Künstlerinnen am Klavier von Stefanie Rediske. \n 
URL:https://frikoberlin.de/event/lieder-und-texte-fuer-den-frieden/
LOCATION:Coop Anti-War Café\, Rochstr. 3\, Berlin\, Berlin\, 10178\, Deutschland
END:VEVENT
BEGIN:VEVENT
DTSTART;TZID=Europe/Berlin:20240318T193000
DTEND;TZID=Europe/Berlin:20240318T210000
DTSTAMP:20260424T213422
CREATED:20240301T144920Z
LAST-MODIFIED:20240301T144920Z
UID:28047-1710790200-1710795600@frikoberlin.de
SUMMARY:Riad Othman – “Die humanitäre Lage im Gazastreifen und die Haltung der Bundesregierung zum Gaza Krieg”
DESCRIPTION:Riad Othman wird in seinem Vortrag über die humanitäre Lage im Gazastreifen und die vielfältigen Herausforderungen und Hindernisse bei der Versorgung der Menschen sprechen. Hierbei wird er auch über die Hintergründe und Konsequenzen der Angriffe auf die UNRWA eingehen und  die Haltung der Bundesregierung im Gaza Krieg kritisch hinterfragt. \nRiad Othman arbeitet seit 2016 als Nahostreferent für die Hilfsorganisation medico international. Davor war er medico-Büroleiter für Israel und Palästina. \nBeitreten Zoom Meeting \nhttps://us02web.zoom.us/j/87379040169?pwd=L0Vzc0FUSFIxZ3liTHJjbEx6RDdEUT09 \nMeeting-ID: 873 7904 0169\nKenncode: 432349 \nÜber Ihre Teilnahme freuen wir uns sehr.
URL:https://frikoberlin.de/event/riad-othman-die-humanitaere-lage-im-gazastreifen-und-die-haltung-der-bundesregierung-zum-gaza-krieg/
LOCATION:Zoom\, Zoom Meeting
END:VEVENT
BEGIN:VEVENT
DTSTART;TZID=Europe/Berlin:20240330T130000
DTEND;TZID=Europe/Berlin:20240330T130000
DTSTAMP:20260424T213422
CREATED:20240307T110315Z
LAST-MODIFIED:20240307T110315Z
UID:28216-1711803600-1711803600@frikoberlin.de
SUMMARY:Berliner Ostermarsch 2024
DESCRIPTION:Auszug aus dem Aufruf zum Ostermarsch der Friko-Berlin: \n  \nWir wollen Frieden!\n  \nWir bleiben friedensstark und verweigern dieser Regierung die\ngeforderte Kriegstüchtigkeit.\nWir verlangen stattdessen von ihr\, den Kriegskurs zu stoppen\nund Entspannung statt Eskalation zu betreiben:\nDas heißt\n• Sich einsetzen für Waffenstillstand und Friedensverhandlungen in Ukraine und Gaza\n• Keine Waffen in die Ukraine – Keine Unterstützung\nder Regierung Israels bei ihrem Genozid am\npalästinensischen Volk\n• Keine erneute Wehrpflicht – Bundeswehr raus aus\nSchulen und Universitäten\n• Keine Stationierung von Dark Eagle in Europa\n• Atombomben aus Büchel entfernen – Nukleare\nTeilhabe beenden – Atomwaffenverbotsvertrag\nunterzeichnen – Raus aus den militärischen\nStrukturen der NATO\n• Das Geld\, das für das Töten verplant wird\, in\nSoziales\, Gesundheit und Umweltschutz investieren\n• Rüstungsexport und Waffenherstellung beenden\n• Keine deutschen Führungsmachtansprüche in der EU\n• Eine europäische Sicherheitsordnung unter\nEinschluss Russlands\n• Geflüchteten Schutz gewähren – Asylrecht stärken\nRaus zum Ostermarsch:\nJa zum Frieden!\nJa zur Abrüstung!\nJa zur Diplomatie!\nJa zum Ausbau des Sozialstaates \nHier geht es zum Flyer:  240330_Ostermarsch_Berlin_Aufruf
URL:https://frikoberlin.de/event/berliner-ostermarsch-2024/
LOCATION:Kino Kosmos\, Karl-Marx-Allee 131A\, Berlin\, Berlin\, 10243\, Deutschland
END:VEVENT
END:VCALENDAR