BEGIN:VCALENDAR
VERSION:2.0
PRODID:-//Frikoberlin - ECPv6.15.20//NONSGML v1.0//EN
CALSCALE:GREGORIAN
METHOD:PUBLISH
X-ORIGINAL-URL:https://frikoberlin.de
X-WR-CALDESC:Veranstaltungen für Frikoberlin
REFRESH-INTERVAL;VALUE=DURATION:PT1H
X-Robots-Tag:noindex
X-PUBLISHED-TTL:PT1H
BEGIN:VTIMEZONE
TZID:America/Los_Angeles
BEGIN:DAYLIGHT
TZOFFSETFROM:-0800
TZOFFSETTO:-0700
TZNAME:PDT
DTSTART:20240310T100000
END:DAYLIGHT
BEGIN:STANDARD
TZOFFSETFROM:-0700
TZOFFSETTO:-0800
TZNAME:PST
DTSTART:20241103T090000
END:STANDARD
BEGIN:DAYLIGHT
TZOFFSETFROM:-0800
TZOFFSETTO:-0700
TZNAME:PDT
DTSTART:20250309T100000
END:DAYLIGHT
BEGIN:STANDARD
TZOFFSETFROM:-0700
TZOFFSETTO:-0800
TZNAME:PST
DTSTART:20251102T090000
END:STANDARD
BEGIN:DAYLIGHT
TZOFFSETFROM:-0800
TZOFFSETTO:-0700
TZNAME:PDT
DTSTART:20260308T100000
END:DAYLIGHT
BEGIN:STANDARD
TZOFFSETFROM:-0700
TZOFFSETTO:-0800
TZNAME:PST
DTSTART:20261101T090000
END:STANDARD
END:VTIMEZONE
BEGIN:VEVENT
DTSTART;TZID=America/Los_Angeles:20250601T183000
DTEND;TZID=America/Los_Angeles:20250601T183000
DTSTAMP:20260421T141052
CREATED:20250520T004520Z
LAST-MODIFIED:20250520T005341Z
UID:46881-1748802600-1748802600@frikoberlin.de
SUMMARY:Friko-Plenum Juni 2025
DESCRIPTION:Sonntag\, den 1. Juni 2025 um 18:30 Uhr \nPallasT\, Goebenstr. 1\, 10783 Berlin\n(U2 Bülowstr\, U7 Kleistpark\, Busse M48\, M85\, A187). \nWeitere Infos : Friko-Plenum Juni 2025 – Einladung
URL:https://frikoberlin.de/event/friko-plenum-juni-2025/
LOCATION:PallasT\, Goebenstr. 1\, Berlin\, 10783\, Germany
END:VEVENT
END:VCALENDAR