BEGIN:VCALENDAR
VERSION:2.0
PRODID:-//Frikoberlin - ECPv6.15.20//NONSGML v1.0//EN
CALSCALE:GREGORIAN
METHOD:PUBLISH
X-ORIGINAL-URL:https://frikoberlin.de
X-WR-CALDESC:Veranstaltungen für Frikoberlin
REFRESH-INTERVAL;VALUE=DURATION:PT1H
X-Robots-Tag:noindex
X-PUBLISHED-TTL:PT1H
BEGIN:VTIMEZONE
TZID:UTC
BEGIN:STANDARD
TZOFFSETFROM:+0000
TZOFFSETTO:+0000
TZNAME:UTC
DTSTART:20240101T000000
END:STANDARD
END:VTIMEZONE
BEGIN:VEVENT
DTSTART;TZID=UTC:20250419T130000
DTEND;TZID=UTC:20250419T130000
DTSTAMP:20260421T215546
CREATED:20250317T073602Z
LAST-MODIFIED:20250405T014019Z
UID:45896-1745067600-1745067600@frikoberlin.de
SUMMARY:Berliner Ostermarsch 2025
DESCRIPTION:19.04.2025 Berliner Ostermarsch 2025\nWir sagen JA zum Frieden \nJA zu Diplomatie statt Kriegspolitik und Waffenlieferungen\nJA zu Waffenstillstands- und Friedens-Verhandlungen\nJA zum Stopp aller Kriege \nBerliner Ostermarsch 2025 – alle Infos \n 
URL:https://frikoberlin.de/event/berliner-ostermarsch-2025/
LOCATION:Mariannenplatz – Kreuzberg\, Mariannenplatz\, Berlin\, 10997\, Germany
END:VEVENT
END:VCALENDAR