BEGIN:VCALENDAR
VERSION:2.0
PRODID:-//Frikoberlin - ECPv6.15.20//NONSGML v1.0//EN
CALSCALE:GREGORIAN
METHOD:PUBLISH
X-ORIGINAL-URL:https://frikoberlin.de
X-WR-CALDESC:Veranstaltungen für Frikoberlin
REFRESH-INTERVAL;VALUE=DURATION:PT1H
X-Robots-Tag:noindex
X-PUBLISHED-TTL:PT1H
BEGIN:VTIMEZONE
TZID:America/Los_Angeles
BEGIN:DAYLIGHT
TZOFFSETFROM:-0800
TZOFFSETTO:-0700
TZNAME:PDT
DTSTART:20240310T100000
END:DAYLIGHT
BEGIN:STANDARD
TZOFFSETFROM:-0700
TZOFFSETTO:-0800
TZNAME:PST
DTSTART:20241103T090000
END:STANDARD
BEGIN:DAYLIGHT
TZOFFSETFROM:-0800
TZOFFSETTO:-0700
TZNAME:PDT
DTSTART:20250309T100000
END:DAYLIGHT
BEGIN:STANDARD
TZOFFSETFROM:-0700
TZOFFSETTO:-0800
TZNAME:PST
DTSTART:20251102T090000
END:STANDARD
BEGIN:DAYLIGHT
TZOFFSETFROM:-0800
TZOFFSETTO:-0700
TZNAME:PDT
DTSTART:20260308T100000
END:DAYLIGHT
BEGIN:STANDARD
TZOFFSETFROM:-0700
TZOFFSETTO:-0800
TZNAME:PST
DTSTART:20261101T090000
END:STANDARD
END:VTIMEZONE
BEGIN:VEVENT
DTSTART;TZID=America/Los_Angeles:20250321T100000
DTEND;TZID=America/Los_Angeles:20250321T130000
DTSTAMP:20260421T233352
CREATED:20250320T065336Z
LAST-MODIFIED:20250320T065639Z
UID:46063-1742551200-1742562000@frikoberlin.de
SUMMARY:Kann man heute noch Pazifist sein? - Radiosendung
DESCRIPTION:Liebe Friedensfreundinnen und Friedensfreunde\, \nfreitags von 10 bis 13 Uhr\, läuft auf Radioeins die Sendung „Die Weber“ mit dem Angebot an\nHörerinnen und Hörer\, sich mit ihrer Meinung zum jeweiligen Thema zu melden.\nAm Freitag\, 21.3.2025\, geht es um „Kann man heute noch Pazifist sein?“\nDa sollten wir uns doch zu Wort melden\, oder?\nDas kann man schon heute unter 0331 – 70 99 555 (Anrufbeantworter)\noder am Freitag unter 0331 – 70 99 111. \nBisherige Erfahrungen zeigen: auch kritische Stimmen kommen in der Sendung zu Wort!\nLiebe Grüße Jutta\, Barbara und Laura \nhttps://www.radioeins.de/programm/sendungen/sendungen/433/2503/250321_die_weber_27514.html
URL:https://frikoberlin.de/event/kann-man-heute-noch-pazifist-sein-radiosendung/
LOCATION:Radio eins\, Marlene-Dietrich-Allee 20\, Potsdam\, 14482\, Germany
END:VEVENT
END:VCALENDAR