BEGIN:VCALENDAR
VERSION:2.0
PRODID:-//Frikoberlin - ECPv6.15.20//NONSGML v1.0//EN
CALSCALE:GREGORIAN
METHOD:PUBLISH
X-WR-CALNAME:Frikoberlin
X-ORIGINAL-URL:https://frikoberlin.de
X-WR-CALDESC:Veranstaltungen für Frikoberlin
REFRESH-INTERVAL;VALUE=DURATION:PT1H
X-Robots-Tag:noindex
X-PUBLISHED-TTL:PT1H
BEGIN:VTIMEZONE
TZID:UTC
BEGIN:STANDARD
TZOFFSETFROM:+0000
TZOFFSETTO:+0000
TZNAME:UTC
DTSTART:20240101T000000
END:STANDARD
END:VTIMEZONE
BEGIN:VEVENT
DTSTART;TZID=UTC:20250318T083000
DTEND;TZID=UTC:20250318T083000
DTSTAMP:20260421T234306
CREATED:20250312T115204Z
LAST-MODIFIED:20250316T134550Z
UID:45761-1742286600-1742286600@frikoberlin.de
SUMMARY:Protestaktion: Kein Blankoscheck fürs Militär
DESCRIPTION:Terminankündigung:\nKein Blankoscheck fürs Militär!\nMilliarden für Menschen statt für Waffen! \nAm 18. März 2025 findet vor dem Reichstagsgebäude eine Protestaktion gegen die geplante Aufhebung der Schuldenbremse für Aufrüstung statt. \nWann: 18. März 2025\, 8:30 Uhr \nWo: Platz der Republik\, 10557 Berlin (Wiese vor dem Reichstagsgebäude) \nHintergrund: Am 18. März 2025 soll im Bundestag über die Grundgesetzänderung zur Aufhebung der „Schuldenbremse“ für Militärausgaben abgestimmt werden: Für die Bundeswehr sollen laut dem Plan von CDU und SPD unendlich lange unendlich viele Schulden gemacht werden dürfen. In Zeiten zunehmender Armut und der Klimakatastrophe ist diese Aufrüstung unverantwortbar. Und auch der Konflikt mit Russland wird dadurch nur noch weiter verschärft: Nur Abrüstung schafft Sicherheit! Wir protestieren gegen den Plan von Friedrich Merz (CDU)\, Lars Klingbeil (SPD) und ihren Parteien: Wir fordern alle Bundestagsabgeordneten auf\, der Abstimmung fern zu bleiben oder gegen den Aufrüstungsplan zu stimmen! \nAngelika Wilmen\, Friedensreferentin der IPPNW: „Die ungezügelte Aufrüstung soll noch mit der Mehrheit des längst abgewählten alten Bundestags durchgedrückt werden. Das ist skandalös und undemokratisch! Die dringend benötigten Investitionen in Gesundheit und Pflege\, Bildung und Umweltschutz wurden jahrelang mit dem Verweis auf fehlendes Geld und die Schuldenbremse abgewiesen.“ \nMichael Schulze von Glaßer\, politischer Geschäftsführer der DFG-VK: „Wir müssen die Frage stellen: Was bringt in der aktuellen Zeit wirklich Sicherheit? – Mehr Waffen werden dies auf keinen Fall tun\, sondern die Rüstungsspirale nur noch weiter ankurbeln. Der aktuelle Kriegstaumel und Überbietungswettkampf bei den Rüstungsausgaben erinnert fatal an den Vorabend des Ersten Weltkriegs. Es ist ein sicherheitspolitischer Amoklauf\, der gestoppt werden muss.“ \nHinweis an die Presse: Die Aktion wird mit Politikermasken ein Fotomotiv liefern\, das die Kritik an den Aufrüstungsplänen illustriert. \nAuf der Veranstaltung sprechen: Simon David Dressler (Aktivist und Influencer)\, Daniel Lücking (ehemaliger Bundeswehr-Offizier)\, Canan Bayram (MdB Grüne)\, Abgeordnete von SPD und Linke (angefragt) sowie Vertreter*innen der aufrufenden Organisationen. \nDie Aktion wird organisiert und durchgeführt von der IPPNW\, der Deutschen Friedensgesellschaft – Vereinigte KriegsdienstgegnerInnen\, den Naturfreunden Deutschlands\, pax christi Deutschland\, Ohne Rüstung Leben\, der IDK\, ICAN Deutschland\, dem Netzwerk Friedenskooperative und Gruppen der Friedenskoordination Berlin. \nKontakt:\nMarek Voigt\, Pressereferent IPPNW\, 030-69807415
URL:https://frikoberlin.de/event/mahnwache-keine-grundgesetzaenderung-fuer-aufruestung-2/
LOCATION:Platz der Republik\, 10557 Berlin (Wiese vor dem Reichstagsgebäude)\, Berlin\, 10557\, Germany
END:VEVENT
END:VCALENDAR