BEGIN:VCALENDAR
VERSION:2.0
PRODID:-//Frikoberlin - ECPv6.15.20//NONSGML v1.0//EN
CALSCALE:GREGORIAN
METHOD:PUBLISH
X-ORIGINAL-URL:https://frikoberlin.de
X-WR-CALDESC:Veranstaltungen für Frikoberlin
REFRESH-INTERVAL;VALUE=DURATION:PT1H
X-Robots-Tag:noindex
X-PUBLISHED-TTL:PT1H
BEGIN:VTIMEZONE
TZID:Europe/Berlin
BEGIN:DAYLIGHT
TZOFFSETFROM:+0100
TZOFFSETTO:+0200
TZNAME:CEST
DTSTART:20240331T010000
END:DAYLIGHT
BEGIN:STANDARD
TZOFFSETFROM:+0200
TZOFFSETTO:+0100
TZNAME:CET
DTSTART:20241027T010000
END:STANDARD
BEGIN:DAYLIGHT
TZOFFSETFROM:+0100
TZOFFSETTO:+0200
TZNAME:CEST
DTSTART:20250330T010000
END:DAYLIGHT
BEGIN:STANDARD
TZOFFSETFROM:+0200
TZOFFSETTO:+0100
TZNAME:CET
DTSTART:20251026T010000
END:STANDARD
BEGIN:DAYLIGHT
TZOFFSETFROM:+0100
TZOFFSETTO:+0200
TZNAME:CEST
DTSTART:20260329T010000
END:DAYLIGHT
BEGIN:STANDARD
TZOFFSETFROM:+0200
TZOFFSETTO:+0100
TZNAME:CET
DTSTART:20261025T010000
END:STANDARD
END:VTIMEZONE
BEGIN:VEVENT
DTSTART;TZID=Europe/Berlin:20250112T100000
DTEND;TZID=Europe/Berlin:20250112T100000
DTSTAMP:20260422T033318
CREATED:20241221T103825Z
LAST-MODIFIED:20250321T080457Z
UID:44735-1736676000-1736676000@frikoberlin.de
SUMMARY:LL-Demo
DESCRIPTION:Aufruf zur Teilnahme an der Demonstration im Rahmen der Liebknecht-Luxemburg-Ehrung am 12. Januar 2025 um 10.00 Uhr vom U-Bhf. Frankfurter Tor zur Gedenkstätte der Sozialisten in Friedrichsfelde sowie am 15. Januar 2025 um 18.00 Uhr vom Olof-Palme-Platz zu den Gedenktafel/-stein im Tiergarten. \n \n 
URL:https://frikoberlin.de/event/ll-demo/
LOCATION:Demo vom U-Bhf. Frankfurter Tor zur Gedenkstätte der Sozialisten\, Start: U-Bhf. Frankf. Tor\, Berlin\, 10365\, Germany
END:VEVENT
END:VCALENDAR