BEGIN:VCALENDAR
VERSION:2.0
PRODID:-//Frikoberlin - ECPv6.15.20//NONSGML v1.0//EN
CALSCALE:GREGORIAN
METHOD:PUBLISH
X-ORIGINAL-URL:https://frikoberlin.de
X-WR-CALDESC:Veranstaltungen für Frikoberlin
REFRESH-INTERVAL;VALUE=DURATION:PT1H
X-Robots-Tag:noindex
X-PUBLISHED-TTL:PT1H
BEGIN:VTIMEZONE
TZID:Europe/Berlin
BEGIN:DAYLIGHT
TZOFFSETFROM:+0100
TZOFFSETTO:+0200
TZNAME:CEST
DTSTART:20230326T010000
END:DAYLIGHT
BEGIN:STANDARD
TZOFFSETFROM:+0200
TZOFFSETTO:+0100
TZNAME:CET
DTSTART:20231029T010000
END:STANDARD
BEGIN:DAYLIGHT
TZOFFSETFROM:+0100
TZOFFSETTO:+0200
TZNAME:CEST
DTSTART:20240331T010000
END:DAYLIGHT
BEGIN:STANDARD
TZOFFSETFROM:+0200
TZOFFSETTO:+0100
TZNAME:CET
DTSTART:20241027T010000
END:STANDARD
BEGIN:DAYLIGHT
TZOFFSETFROM:+0100
TZOFFSETTO:+0200
TZNAME:CEST
DTSTART:20250330T010000
END:DAYLIGHT
BEGIN:STANDARD
TZOFFSETFROM:+0200
TZOFFSETTO:+0100
TZNAME:CET
DTSTART:20251026T010000
END:STANDARD
END:VTIMEZONE
BEGIN:VEVENT
DTSTART;TZID=Europe/Berlin:20240330T130000
DTEND;TZID=Europe/Berlin:20240330T130000
DTSTAMP:20260424T230812
CREATED:20240307T110315Z
LAST-MODIFIED:20240307T110315Z
UID:28216-1711803600-1711803600@frikoberlin.de
SUMMARY:Berliner Ostermarsch 2024
DESCRIPTION:Auszug aus dem Aufruf zum Ostermarsch der Friko-Berlin: \n  \nWir wollen Frieden!\n  \nWir bleiben friedensstark und verweigern dieser Regierung die\ngeforderte Kriegstüchtigkeit.\nWir verlangen stattdessen von ihr\, den Kriegskurs zu stoppen\nund Entspannung statt Eskalation zu betreiben:\nDas heißt\n• Sich einsetzen für Waffenstillstand und Friedensverhandlungen in Ukraine und Gaza\n• Keine Waffen in die Ukraine – Keine Unterstützung\nder Regierung Israels bei ihrem Genozid am\npalästinensischen Volk\n• Keine erneute Wehrpflicht – Bundeswehr raus aus\nSchulen und Universitäten\n• Keine Stationierung von Dark Eagle in Europa\n• Atombomben aus Büchel entfernen – Nukleare\nTeilhabe beenden – Atomwaffenverbotsvertrag\nunterzeichnen – Raus aus den militärischen\nStrukturen der NATO\n• Das Geld\, das für das Töten verplant wird\, in\nSoziales\, Gesundheit und Umweltschutz investieren\n• Rüstungsexport und Waffenherstellung beenden\n• Keine deutschen Führungsmachtansprüche in der EU\n• Eine europäische Sicherheitsordnung unter\nEinschluss Russlands\n• Geflüchteten Schutz gewähren – Asylrecht stärken\nRaus zum Ostermarsch:\nJa zum Frieden!\nJa zur Abrüstung!\nJa zur Diplomatie!\nJa zum Ausbau des Sozialstaates \nHier geht es zum Flyer:  240330_Ostermarsch_Berlin_Aufruf
URL:https://frikoberlin.de/event/berliner-ostermarsch-2024/
LOCATION:Kino Kosmos\, Karl-Marx-Allee 131A\, Berlin\, Berlin\, 10243\, Deutschland
END:VEVENT
END:VCALENDAR